BEGIN:VCALENDAR
VERSION:2.0
PRODID:www.padergruen.de
METHOD:PUBLISH
BEGIN:VTIMEZONE
TZID:Europe/Berlin
X-LIC-LOCATION:Europe/Berlin
BEGIN:DAYLIGHT
TZOFFSETFROM:+0100
TZOFFSETTO:+0200
TZNAME:CEST
DTSTART:19700329T020000
RRULE:FREQ=YEARLY;INTERVAL=1;BYDAY=-1SU;BYMONTH=3
END:DAYLIGHT
BEGIN:STANDARD
TZOFFSETFROM:+0200
TZOFFSETTO:+0100
TZNAME:CET
DTSTART:19701025T030000
RRULE:FREQ=YEARLY;INTERVAL=1;BYDAY=-1SU;BYMONTH=10
END:STANDARD
END:VTIMEZONE
BEGIN:VEVENT
UID:4ef3e45fe333b7010c7ee183bdf5742f@www.padergruen.de
URL;VALUE=URI:https://www.padergruen.de/termine/frauenfest-in-der-kulturk
 neipe-sputnik/
LOCATION:Sputnik, Imadstraße 7, 33102 Paderborn
SUMMARY:Frauenfest in der Kulturkneipe „Sputnik“
DESCRIPTION;ALTREP="data:text/html,%0A%3Cp%3EDie%20gr%C3%BCnen%20Frauen%2
 0und%20das%20Frauennetzwerk%20Pader%C2%ADborn%20laden%20ein%20zum%20Inter
 natio%C2%ADnalen%20Frauen%C2%ADfest%20am%207.%20M%C3%A4rz%20mit%20Tanz%20
 und%20Fingerfood-B%C3%BCfett%20unter%20dem%20Motto%20%E2%80%9EFeiern.%20F
 uttern.%20Feminin.%E2%80%9C%3Cbr%3E%3Cbr%3EGeboten%20wird%20ein%20buntes%
 20Programm%20mit%20Musik%20und%20Tanz.%20DJ%20Frau%20Schneider%20%28Sputn
 ik%29%20sorgt%20f%C3%BCr%20Tanzmusik.%20%3Cbr%3E%3Cbr%3EDie%20Teilnehmeri
 nnen%20werden%20gebeten%2C%20etwas%20zum%20Fingerfood-B%C3%BCfett%20beizu
 tragen.%20%E2%80%93%20Alle%20Interessierten%20sind%20herzlich%20eingelade
 n.%20Der%20Eintritt%20ist%20frei.%3C%2Fp%3E%0A":Die grünen Frauen und da
 s Frauennetzwerk Pader­born laden ein zum Internatio­nalen Frauen­fest
  am 7. März mit Tanz und Fingerfood-Büfett unter dem Motto „Feiern. F
 uttern. Feminin.“Geboten wird ein buntes Programm mit Musik und Tanz. D
 J Frau Schneider (Sputnik) sorgt für Tanzmusik. Die Teilnehmerinnen werd
 en gebeten\, etwas zum Fingerfood-Büfett beizutragen. – Alle Interessi
 erten sind herzlich eingeladen. Der Eintritt ist frei.
CLASS:PUBLIC
DTSTART;TZID=Europe/Berlin:20260307T193000
DTEND;TZID=Europe/Berlin:20260307T203000
DTSTAMP:20260422T100217
END:VEVENT
END:VCALENDAR